BEGIN:VCALENDAR
VERSION:2.0
PRODID:-//eventon.com NONSGML v1.0//EN
CALSCALE:GREGORIAN
METHOD:PUBLISH
BEGIN:VEVENT
UID:69e853e9c1db3
DTSTAMP:20260422T045153Z
DTSTART:20260422T180000Z
DTEND:20260422T181000Z
LOCATION:Sala Alfonsa de la Torre Calle Colegio\,  7
SUMMARY:Conferencia. «María de Velasco y Mendoza y su relación con San Francisco de Cuéllar»
DESCRIPTION:Conferencia «María de Velasco y Mendoza y su relación con Sa
 n Francisco de Cuéllar». Imparte:  Silvia Olmos\,  historiadora del arte
  Entrada:  gratuita hasta completar aforo\nhttps://escuellar.es/Agenda/con
 ferencia-maria-de-velasco-y-mendoza-y-su-relacion-con-san-francisco-de-cuel
 lar/
URL:https://escuellar.es/Agenda/conferencia-maria-de-velasco-y-mendoza-y-su-relacion-con-san-francisco-de-cuellar/
END:VEVENT
END:VCALENDAR