BEGIN:VCALENDAR
VERSION:2.0
PRODID:-//eventon.com NONSGML v1.0//EN
CALSCALE:GREGORIAN
METHOD:PUBLISH
BEGIN:VEVENT
UID:69eb4896415c6
DTSTAMP:20260424T104022Z
DTSTART:20260425T153000Z
DTEND:20260425T171500Z
LOCATION:Campo de fútbol
SUMMARY:Fútbol. CD Cuéllar - Cabezuela
DESCRIPTION:Primera División Provincial masculina. Jornada 29\nhttps://esc
 uellar.es/Agenda/futbol-cd-cuellar-cabezuela/
URL:https://escuellar.es/Agenda/futbol-cd-cuellar-cabezuela/
END:VEVENT
END:VCALENDAR