BEGIN:VCALENDAR
VERSION:2.0
PRODID:-//eventon.com NONSGML v1.0//EN
CALSCALE:GREGORIAN
METHOD:PUBLISH
BEGIN:VEVENT
UID:69eb489944a44
DTSTAMP:20260424T104025Z
DTSTART:20260426T160000Z
DTEND:20260426T174500Z
LOCATION:Campo de fútbol
SUMMARY:Fútbol. CD Cuéllar - Burgos
DESCRIPTION:Segunda División Regional femenina. Jornada 28\nhttps://escuel
 lar.es/Agenda/futbol-cd-cuellar-burgos/
URL:https://escuellar.es/Agenda/futbol-cd-cuellar-burgos/
END:VEVENT
END:VCALENDAR