BEGIN:VCALENDAR
VERSION:2.0
PRODID:-//eventon.com NONSGML v1.0//EN
CALSCALE:GREGORIAN
METHOD:PUBLISH
BEGIN:VEVENT
UID:69eb81c9705f2
DTSTAMP:20260424T144425Z
DTSTART:20260424T173000Z
DTEND:20260424T204500Z
LOCATION:
SUMMARY:Concentración de charangas
DESCRIPTION:19.30 h. Txaranga Poteo\,  con inicio enla calle Francisco de O
 rantes. 21.30 h. Charanga Cubalibre\,  desde la zona del Castillo. Organiza
 : Charanga la Huevera\nhttps://escuellar.es/Agenda/concentracion-de-charan
 gas/
URL:https://escuellar.es/Agenda/concentracion-de-charangas/
END:VEVENT
END:VCALENDAR