BEGIN:VCALENDAR
VERSION:2.0
PRODID:-//eventon.com NONSGML v1.0//EN
CALSCALE:GREGORIAN
METHOD:PUBLISH
BEGIN:VEVENT
UID:69eb821f4a222
DTSTAMP:20260424T144551Z
DTSTART:20260425T103000Z
DTEND:20260425T214500Z
LOCATION:
SUMMARY:Concentración de charangas
DESCRIPTION:12:30 h. Txaranga Malatxe\,  dese la plaza Mayor. 16:00 h. Ch
 aranga la Huevera\,  desde la plaza de toros. 19.00 h. Charanga Jaleo\,  de
 sde la plaza de los Coches. 22.00 h. Txaranga Malatxo\,  desde la calle Áv
 ila. Organiza: Charanga la Huevera\nhttps://escuellar.es/Agenda/concentrac
 ion-de-charangas-2/
URL:https://escuellar.es/Agenda/concentracion-de-charangas-2/
END:VEVENT
END:VCALENDAR