BEGIN:VCALENDAR
VERSION:2.0
PRODID:-//eventon.com NONSGML v1.0//EN
CALSCALE:GREGORIAN
METHOD:PUBLISH
BEGIN:VEVENT
UID:69eb883bbe7a0
DTSTAMP:20260424T151155Z
DTSTART:20260426T153000Z
DTEND:20260426T153500Z
LOCATION:Sala Alfonsa de la Torre Calle Colegio\,  7
SUMMARY:Cine. «Super Mario Galaxy. La película»
DESCRIPTION:Título: «Super Mario Galaxy. La película». 98 minutos Públ
 ico: No recomendada para menores de siete años. Especialmente recomendada 
 para la infancia. Género: Animación Sinopsis: La historia tiene lugar de
 spués de los acontecimientos de la primera\,  en la que dos hermanos\,  Ma
 rio y Luigi\,  y la princesa Peach emprenden una aventura hasta[..]\nhttps:
 //escuellar.es/Agenda/cine-super-mario-galaxy-la-pelicula-2/
URL:https://escuellar.es/Agenda/cine-super-mario-galaxy-la-pelicula-2/
END:VEVENT
END:VCALENDAR