BEGIN:VCALENDAR
VERSION:2.0
PRODID:-//eventon.com NONSGML v1.0//EN
CALSCALE:GREGORIAN
METHOD:PUBLISH
BEGIN:VEVENT
UID:69eb8d638aecd
DTSTAMP:20260424T153355Z
DTSTART:20260426T180000Z
DTEND:20260426T180500Z
LOCATION:Sala Alfonsa de la Torre Calle Colegio\,  7
SUMMARY:Cine. «Un simple accidente»
DESCRIPTION:Título: «Un simple accidente». 103 minutos Público: No reco
 mendada para menores de 16 años. Género: Thriller Director: Jafar Panahi
  Reparto: Vahid Mobasseri\,  Mariam Afshari\,  Ebrahim Azizi Sinopsis: Lo q
 ue empieza como un simple accidente desencadena una serie de consecuencias 
 cada vez mayores. Entrada: 6 euros. Organiza:  Semana Internacional de Ci
 ne de Cuéllar\nhttps://escuellar.es/Agenda/cine-un-simple-accidente-3/
URL:https://escuellar.es/Agenda/cine-un-simple-accidente-3/
END:VEVENT
END:VCALENDAR