BEGIN:VCALENDAR
VERSION:2.0
PRODID:-//eventon.com NONSGML v1.0//EN
CALSCALE:GREGORIAN
METHOD:PUBLISH
BEGIN:VEVENT
UID:69eca8969ea3d
DTSTAMP:20260425T114214Z
DTSTART:20260425T160000Z
DTEND:20260425T171500Z
LOCATION:Polideportivo
SUMMARY:Fútbol sala. Racing Cuéllar - El Espinar Arlequín
DESCRIPTION:Primera División Regional de Fútbol Sala. Jornada 24\nhttps:/
 /escuellar.es/Agenda/futbol-sala-racing-cuellar-el-espinar-arlequin/
URL:https://escuellar.es/Agenda/futbol-sala-racing-cuellar-el-espinar-arlequin/
END:VEVENT
END:VCALENDAR