BEGIN:VCALENDAR
VERSION:2.0
PRODID:-//eventon.com NONSGML v1.0//EN
CALSCALE:GREGORIAN
METHOD:PUBLISH
BEGIN:VEVENT
UID:69ecb9bdd4078
DTSTAMP:20260425T125525Z
DTSTART:20260425T150000Z
DTEND:20260425T153000Z
LOCATION:Polideportivo
SUMMARY:Fútbol sala. Día de la Cantera del Racing Cuéllar
DESCRIPTION:Presentación pública de los equipos de cantera del club Racin
 g Cuéllar. Entrada: libre\nhttps://escuellar.es/Agenda/futbol-sala-dia-de-
 la-cantera-del-racing-cuellar/
URL:https://escuellar.es/Agenda/futbol-sala-dia-de-la-cantera-del-racing-cuellar/
END:VEVENT
END:VCALENDAR