BEGIN:VCALENDAR
VERSION:2.0
PRODID:-//eventon.com NONSGML v1.0//EN
CALSCALE:GREGORIAN
METHOD:PUBLISH
BEGIN:VEVENT
UID:69eccf67c4f56
DTSTAMP:20260425T142751Z
DTSTART:20260426T163000Z
DTEND:20260426T174500Z
LOCATION:Polideportivo
SUMMARY:Fútbol sala. FS Cuéllar Cojalba - Ponfesala
DESCRIPTION:Tercera División de Fútbol Sala\nhttps://escuellar.es/Agenda/
 futbol-sala-fs-cuellar-cojalba-ponfesala/
URL:https://escuellar.es/Agenda/futbol-sala-fs-cuellar-cojalba-ponfesala/
END:VEVENT
END:VCALENDAR